BEGIN:VCALENDAR
PRODID:-//hacksw/handcal//NONSGML v1.0//EN
VERSION:2.0
METHOD:PUBLISH
BEGIN:VEVENT
DTSTART:20170615T160000Z
DTEND:20170615T180000Z
LOCATION:Portland Country Club
UID:1459720170615T160000ZMEPC Annual Meeting and Barbeque
DTSTAMP:20260421T171203Z
DESCRIPTION:
SUMMARY:MEPC Annual Meeting and Barbeque - Maine Estate Planning Council 
PRIORITY:3
BEGIN:VALARM
TRIGGER:PT18H
ACTION:DISPLAY
DESCRIPTION:Reminder
END:VALARM
END:VEVENT
END:VCALENDAR