BEGIN:VCALENDAR
PRODID:-//hacksw/handcal//NONSGML v1.0//EN
VERSION:2.0
METHOD:PUBLISH
BEGIN:VEVENT
DTSTART:20190516T113000Z
DTEND:20190516T133000Z
LOCATION:Portland Country Club
UID:1662920190516T113000ZMEPC Breakfast Meeting
DTSTAMP:20260424T183331Z
DESCRIPTION:
SUMMARY:MEPC Breakfast Meeting - Maine Estate Planning Council 
PRIORITY:3
BEGIN:VALARM
TRIGGER:PT18H
ACTION:DISPLAY
DESCRIPTION:Reminder
END:VALARM
END:VEVENT
END:VCALENDAR