BEGIN:VCALENDAR
PRODID:-//hacksw/handcal//NONSGML v1.0//EN
VERSION:2.0
METHOD:PUBLISH
BEGIN:VEVENT
DTSTART:20190620T160000Z
DTEND:20190620T180000Z
LOCATION:Portland Country Club
UID:1663020190620T160000ZMEPC Annual Meeting & BBQ
DTSTAMP:20260420T211724Z
DESCRIPTION:
SUMMARY:MEPC Annual Meeting & BBQ - Maine Estate Planning Council 
PRIORITY:3
BEGIN:VALARM
TRIGGER:PT18H
ACTION:DISPLAY
DESCRIPTION:Reminder
END:VALARM
END:VEVENT
END:VCALENDAR