BEGIN:VCALENDAR
PRODID:-//hacksw/handcal//NONSGML v1.0//EN
VERSION:2.0
METHOD:PUBLISH
BEGIN:VEVENT
DTSTART:20230126T220000Z
DTEND:20230127T000000Z
LOCATION:DiMillo's On The Water
UID:2385620230126T220000ZWINTER SOCIAL
DTSTAMP:20260420T181949Z
DESCRIPTION:
SUMMARY:WINTER SOCIAL - Maine Estate Planning Council 
PRIORITY:3
BEGIN:VALARM
TRIGGER:PT18H
ACTION:DISPLAY
DESCRIPTION:Reminder
END:VALARM
END:VEVENT
END:VCALENDAR