BEGIN:VCALENDAR
PRODID:-//hacksw/handcal//NONSGML v1.0//EN
VERSION:2.0
METHOD:PUBLISH
BEGIN:VEVENT
DTSTART:20130129T213000Z
DTEND:20130129T233000Z
LOCATION:Cumberland Club, 116 High Street, Portland
UID:723020130129T213000ZWinter Social & Fiscal Cliff Update
DTSTAMP:20260422T085533Z
DESCRIPTION:
SUMMARY:Winter Social & Fiscal Cliff Update - Maine Estate Planning Council 
PRIORITY:3
BEGIN:VALARM
TRIGGER:PT18H
ACTION:DISPLAY
DESCRIPTION:Reminder
END:VALARM
END:VEVENT
END:VCALENDAR